BEGIN:VCALENDAR
VERSION:2.0
PRODID:-//GOTS-Kongress//gots-kongress.org//DE
CALSCALE:GREGORIAN
BEGIN:VEVENT
DTSTART:20260612T123000
DTEND:20260612T130000
LOCATION:Europasaal (1. OG, Stand "Zebris")
DTSTAMP:11.03.2026 15:00
SUMMARY:Praxisorientierte Gang- und Laufanalyse
URL;VALUE=URI:https://gots-kongress.org/session/praxisorientierte-gang-und-laufanalyse/
DESCRIPTION:Praxisorientierte Gang- und Laufanalyse\n\nEuropasaal (1. OG, Stand "Zebris")\n\nInfos zur Session: https://gots-kongress.org/session/praxisorientierte-gang-und-laufanalyse/
UID:11.03.2026 15:00-20260612T123000-20260612T130000
BEGIN:VALARM
ACTION:DISPLAY
TRIGGER:-PT15M
END:VALARM
END:VEVENT
END:VCALENDAR